BEGIN:VCALENDAR
PRODID:-//MatrixMaxx//RemoteApi//EN
VERSION:2.0
METHOD:PUBLISH
CALSCALE:GREGORIAN
X-ORIGINAL-URL:http://www2.afpm.org/forms/meeting/Microsite/NSC17
BEGIN:VEVENT
SUMMARY:2017 National Occupational & Process Safety Conference & Exhibition
LAST-MODIFIED:20170517
UID:ci_100C0300000CB7@matrixgroup.net
CLASS:PUBLIC
CREATED:20170517
DTSTAMP:20170517
DTSTART:20170517
X-FUNAMBOL-ALLDAY:1
LOCATION:New+Orleans+Marriott
DESCRIPTION:For+full+info+see+http%3A%2F%2Fwww2.afpm.org%2Fforms%2Fmeeting%2FMicrosite%2FNSC17%0A
X-WR-CALDESC:For+full+info+see+http%3A%2F%2Fwww2.afpm.org%2Fforms%2Fmeeting%2FMicrosite%2FNSC17%0A
X-WR-CALNAME:Maxx Calendar
DTEND:20170519
URL:http://www2.afpm.org/forms/meeting/Microsite/NSC17
END:VEVENT
END:VCALENDAR