BEGIN:VCALENDAR
PRODID:-//MatrixMaxx//RemoteApi//EN
VERSION:2.0
METHOD:PUBLISH
CALSCALE:GREGORIAN
X-ORIGINAL-URL:http://www2.afpm.org/forms/meeting/Microsite/RMC17
BEGIN:VEVENT
SUMMARY:2017 Reliability & Maintenance Conference and Exhibition
LAST-MODIFIED:20170523
UID:ci_100C0300001E99@matrixgroup.net
CLASS:PUBLIC
CREATED:20170523
DTSTAMP:20170523
DTSTART:20170523
X-FUNAMBOL-ALLDAY:1
LOCATION:Ernest+N.+Morial+Convention+Center
DESCRIPTION:For+full+info+see+http%3A%2F%2Fwww2.afpm.org%2Fforms%2Fmeeting%2FMicrosite%2FRMC17%0A
X-WR-CALDESC:For+full+info+see+http%3A%2F%2Fwww2.afpm.org%2Fforms%2Fmeeting%2FMicrosite%2FRMC17%0A
X-WR-CALNAME:Maxx Calendar
DTEND:20170527
URL:http://www2.afpm.org/forms/meeting/Microsite/RMC17
END:VEVENT
END:VCALENDAR