BEGIN:VCALENDAR
PRODID:-//MatrixMaxx//RemoteApi//EN
VERSION:2.0
METHOD:PUBLISH
CALSCALE:GREGORIAN
X-ORIGINAL-URL:http://www2.afpm.org/forms/meeting/Microsite/AM18
BEGIN:VEVENT
SUMMARY:2018 Annual Meeting
LAST-MODIFIED:20180311T140000Z
UID:ci_13462A0000036C@matrixgroup.net
CLASS:PUBLIC
CREATED:20180311T140000Z
DTSTAMP:20180311T140000Z
DTSTART:20180311T140000Z
X-FUNAMBOL-ALLDAY:1
LOCATION:Hilton+New+Orleans+Riverside
DESCRIPTION:For full info see http://www2.afpm.org/forms/meeting/Microsite/AM18\n
DTEND:20180313T213000Z
URL:http://www2.afpm.org/forms/meeting/Microsite/AM18
END:VEVENT
END:VCALENDAR