BEGIN:VCALENDAR
PRODID:-//MatrixMaxx//RemoteApi//EN
VERSION:2.0
METHOD:PUBLISH
CALSCALE:GREGORIAN
X-ORIGINAL-URL:http://www2.afpm.org/forms/meeting/MeetingFormPublic/view?id=16BA8000001C1
BEGIN:VEVENT
SUMMARY:2009 Labor Relations/Human Resources Conference
LAST-MODIFIED:20090416
UID:ci_16BA8000001C1@matrixgroup.net
CLASS:PUBLIC
CREATED:20090416
DTSTAMP:20090416
DTSTART:20090416
X-FUNAMBOL-ALLDAY:1
LOCATION:The+Woodlands+Waterway+Marriott
DESCRIPTION:For+full+info+see+http%3A%2F%2Fwww2.afpm.org%2Fforms%2Fmeeting%2FMeetingFormPublic%2Fview%3Fid%3D16BA8000001C1%0A
X-WR-CALDESC:For+full+info+see+http%3A%2F%2Fwww2.afpm.org%2Fforms%2Fmeeting%2FMeetingFormPublic%2Fview%3Fid%3D16BA8000001C1%0A
X-WR-CALNAME:Maxx Calendar
DTEND:20090418
URL:http://www2.afpm.org/forms/meeting/MeetingFormPublic/view?id=16BA8000001C1
END:VEVENT
END:VCALENDAR