BEGIN:VCALENDAR
PRODID:-//MatrixMaxx//RemoteApi//EN
VERSION:2.0
METHOD:PUBLISH
CALSCALE:GREGORIAN
X-ORIGINAL-URL:http://www2.afpm.org/forms/meeting/MeetingFormPublic/view?id=18139000002B8
BEGIN:VEVENT
SUMMARY:2009 National Safety Conference
LAST-MODIFIED:20090512
UID:ci_18139000002B8@matrixgroup.net
CLASS:PUBLIC
CREATED:20090512
DTSTAMP:20090512
DTSTART:20090512
X-FUNAMBOL-ALLDAY:1
LOCATION:Gaylord+Texan
DESCRIPTION:For full info see http://www2.afpm.org/forms/meeting/MeetingFormPublic/view?id=18139000002B8\n
DTEND:20090514
URL:http://www2.afpm.org/forms/meeting/MeetingFormPublic/view?id=18139000002B8
END:VEVENT
END:VCALENDAR