BEGIN:VCALENDAR
PRODID:-//MatrixMaxx//RemoteApi//EN
VERSION:2.0
METHOD:PUBLISH
CALSCALE:GREGORIAN
X-ORIGINAL-URL:http://www2.afpm.org/forms/meeting/MeetingFormPublic/view?id=1991900000264
BEGIN:VEVENT
SUMMARY:2009 Environmental Committee Spring Meeting
LAST-MODIFIED:20090421
UID:ci_1991900000264@matrixgroup.net
CLASS:PUBLIC
CREATED:20090421
DTSTAMP:20090421
DTSTART:20090421
X-FUNAMBOL-ALLDAY:1
LOCATION:Sofitel+DC+Lafayette+Square
DESCRIPTION:For full info see http://www2.afpm.org/forms/meeting/MeetingFormPublic/view?id=1991900000264\n
DTEND:20090423
URL:http://www2.afpm.org/forms/meeting/MeetingFormPublic/view?id=1991900000264
END:VEVENT
END:VCALENDAR