BEGIN:VCALENDAR
PRODID:-//MatrixMaxx//RemoteApi//EN
VERSION:2.0
METHOD:PUBLISH
CALSCALE:GREGORIAN
X-ORIGINAL-URL:http://www2.afpm.org/forms/meeting/MeetingFormPublic/view?id=1E26300000275
BEGIN:VEVENT
SUMMARY:NPRA/API Operating Practices Symposium
LAST-MODIFIED:20090428
UID:ci_1E26300000275@matrixgroup.net
CLASS:PUBLIC
CREATED:20090428
DTSTAMP:20090428
DTSTART:20090428
X-FUNAMBOL-ALLDAY:1
LOCATION:Grand+Hyatt+Denver
DESCRIPTION:For full info see http://www2.afpm.org/forms/meeting/MeetingFormPublic/view?id=1E26300000275\n
DTEND:20090429
URL:http://www2.afpm.org/forms/meeting/MeetingFormPublic/view?id=1E26300000275
END:VEVENT
END:VCALENDAR