BEGIN:VCALENDAR
PRODID:-//MatrixMaxx//RemoteApi//EN
VERSION:2.0
METHOD:PUBLISH
CALSCALE:GREGORIAN
X-ORIGINAL-URL:http://www2.afpm.org/forms/meeting/MeetingFormPublic/view?id=208A7000000B6
BEGIN:VEVENT
SUMMARY:2009 Q&A Screening Meeting
LAST-MODIFIED:20090616
UID:ci_208A7000000B6@matrixgroup.net
CLASS:PUBLIC
CREATED:20090616
DTSTAMP:20090616
DTSTART:20090616
X-FUNAMBOL-ALLDAY:1
LOCATION:Residence+Inn+National+Harbor
DESCRIPTION:For+full+info+see+http%3A%2F%2Fwww2.afpm.org%2Fforms%2Fmeeting%2FMeetingFormPublic%2Fview%3Fid%3D208A7000000B6%0A
X-WR-CALDESC:For+full+info+see+http%3A%2F%2Fwww2.afpm.org%2Fforms%2Fmeeting%2FMeetingFormPublic%2Fview%3Fid%3D208A7000000B6%0A
X-WR-CALNAME:Maxx Calendar
DTEND:20090619
URL:http://www2.afpm.org/forms/meeting/MeetingFormPublic/view?id=208A7000000B6
END:VEVENT
END:VCALENDAR