BEGIN:VCALENDAR
PRODID:-//MatrixMaxx//RemoteApi//EN
VERSION:2.0
METHOD:PUBLISH
CALSCALE:GREGORIAN
X-ORIGINAL-URL:http://www2.afpm.org/forms/meeting/MeetingFormPublic/view?id=20C0000000BA
BEGIN:VEVENT
SUMMARY:2006 Environmental Committee Spring Meeting
LAST-MODIFIED:20060227
UID:ci_20C0000000BA@matrixgroup.net
CLASS:PUBLIC
CREATED:20060227
DTSTAMP:20060227
DTSTART:20060227
X-FUNAMBOL-ALLDAY:1
LOCATION:Marriott+Metro+Center
DESCRIPTION:For+full+info+see+http%3A%2F%2Fwww2.afpm.org%2Fforms%2Fmeeting%2FMeetingFormPublic%2Fview%3Fid%3D20C0000000BA%0A
X-WR-CALDESC:For+full+info+see+http%3A%2F%2Fwww2.afpm.org%2Fforms%2Fmeeting%2FMeetingFormPublic%2Fview%3Fid%3D20C0000000BA%0A
X-WR-CALNAME:Maxx Calendar
DTEND:20060302
URL:http://www2.afpm.org/forms/meeting/MeetingFormPublic/view?id=20C0000000BA
END:VEVENT
END:VCALENDAR