BEGIN:VCALENDAR
PRODID:-//MatrixMaxx//RemoteApi//EN
VERSION:2.0
METHOD:PUBLISH
CALSCALE:GREGORIAN
X-ORIGINAL-URL:http://www2.afpm.org/forms/meeting/Microsite/OPT18
BEGIN:VEVENT
SUMMARY:2018 Operations & Process Technology Summit
LAST-MODIFIED:20180930
UID:ci_22B6960000000D@matrixgroup.net
CLASS:PUBLIC
CREATED:20180930
DTSTAMP:20180930
DTSTART:20180930
X-FUNAMBOL-ALLDAY:1
LOCATION:Atlanta+Marriott+Marquis
DESCRIPTION:For full info see http://www2.afpm.org/forms/meeting/Microsite/OPT18\n
DTEND:20181004
URL:http://www2.afpm.org/forms/meeting/Microsite/OPT18
END:VEVENT
END:VCALENDAR