BEGIN:VCALENDAR
PRODID:-//MatrixMaxx//RemoteApi//EN
VERSION:2.0
METHOD:PUBLISH
CALSCALE:GREGORIAN
X-ORIGINAL-URL:http://www2.afpm.org/forms/meeting/MeetingFormPublic/view?id=22F07000002EE
BEGIN:VEVENT
SUMMARY:2009 Q&A and Technology Forum
LAST-MODIFIED:20091011
UID:ci_22F07000002EE@matrixgroup.net
CLASS:PUBLIC
CREATED:20091011
DTSTAMP:20091011
DTSTART:20091011
X-FUNAMBOL-ALLDAY:1
LOCATION:Omni+Fort+Worth+Hotel
DESCRIPTION:For full info see http://www2.afpm.org/forms/meeting/MeetingFormPublic/view?id=22F07000002EE\n
DTEND:20091015
URL:http://www2.afpm.org/forms/meeting/MeetingFormPublic/view?id=22F07000002EE
END:VEVENT
END:VCALENDAR