BEGIN:VCALENDAR
PRODID:-//MatrixMaxx//RemoteApi//EN
VERSION:2.0
METHOD:PUBLISH
CALSCALE:GREGORIAN
X-ORIGINAL-URL:http://www2.afpm.org/forms/meeting/Microsite/NSC19
BEGIN:VEVENT
SUMMARY:2019 National Occupational & Process Safety Conference & Exhibition
LAST-MODIFIED:20190424
UID:ci_230BC100000009@matrixgroup.net
CLASS:PUBLIC
CREATED:20190424
DTSTAMP:20190424
DTSTART:20190424
X-FUNAMBOL-ALLDAY:1
LOCATION:Gaylord+Texan+Resort+%26+Convention+Center
DESCRIPTION:For+full+info+see+http%3A%2F%2Fwww2.afpm.org%2Fforms%2Fmeeting%2FMicrosite%2FNSC19%0A
X-WR-CALDESC:For+full+info+see+http%3A%2F%2Fwww2.afpm.org%2Fforms%2Fmeeting%2FMicrosite%2FNSC19%0A
X-WR-CALNAME:Maxx Calendar
DTEND:20190426
URL:http://www2.afpm.org/forms/meeting/Microsite/NSC19
END:VEVENT
END:VCALENDAR