BEGIN:VCALENDAR
PRODID:-//MatrixMaxx//RemoteApi//EN
VERSION:2.0
METHOD:PUBLISH
CALSCALE:GREGORIAN
X-ORIGINAL-URL:http://www2.afpm.org/forms/meeting/Microsite/LRHR19
BEGIN:VEVENT
SUMMARY:2019 Labor Relations/Human Resources Conference
LAST-MODIFIED:20190502
UID:ci_2504CB0000060E@matrixgroup.net
CLASS:PUBLIC
CREATED:20190502
DTSTAMP:20190502
DTSTART:20190502
X-FUNAMBOL-ALLDAY:1
LOCATION:Sheraton+Austin+Hotel+at+the+Capitol
DESCRIPTION:For full info see http://www2.afpm.org/forms/meeting/Microsite/LRHR19\n
DTEND:20190504
URL:http://www2.afpm.org/forms/meeting/Microsite/LRHR19
END:VEVENT
END:VCALENDAR