BEGIN:VCALENDAR
PRODID:-//MatrixMaxx//RemoteApi//EN
VERSION:2.0
METHOD:PUBLISH
CALSCALE:GREGORIAN
X-ORIGINAL-URL:http://www2.afpm.org/forms/meeting/MeetingFormPublic/view?id=25D60000001E
BEGIN:VEVENT
SUMMARY:Gulf Coast Labor Outlook Roundtable 2006
LAST-MODIFIED:20060126
UID:ci_25D60000001E@matrixgroup.net
CLASS:PUBLIC
CREATED:20060126
DTSTAMP:20060126
DTSTART:20060126
X-FUNAMBOL-ALLDAY:1
LOCATION:Houston+Hobby+Airport+Marriott
DESCRIPTION:For full info see http://www2.afpm.org/forms/meeting/MeetingFormPublic/view?id=25D60000001E\n
DTEND:20060127
URL:http://www2.afpm.org/forms/meeting/MeetingFormPublic/view?id=25D60000001E
END:VEVENT
END:VCALENDAR