BEGIN:VCALENDAR
PRODID:-//MatrixMaxx//RemoteApi//EN
VERSION:2.0
METHOD:PUBLISH
CALSCALE:GREGORIAN
X-ORIGINAL-URL:http://www2.afpm.org/forms/meeting/Microsite/ENVCMT19
BEGIN:VEVENT
SUMMARY:2019 Environmental Committee Spring Meeting
LAST-MODIFIED:20190305
UID:ci_25EAFC00000B2E@matrixgroup.net
CLASS:PUBLIC
CREATED:20190305
DTSTAMP:20190305
DTSTART:20190305
X-FUNAMBOL-ALLDAY:1
LOCATION:Sofitel+Washington+DC+Lafayette+Square
DESCRIPTION:For+full+info+see+http%3A%2F%2Fwww2.afpm.org%2Fforms%2Fmeeting%2FMicrosite%2FENVCMT19%0A
X-WR-CALDESC:For+full+info+see+http%3A%2F%2Fwww2.afpm.org%2Fforms%2Fmeeting%2FMicrosite%2FENVCMT19%0A
X-WR-CALNAME:Maxx Calendar
DTEND:20190307
URL:http://www2.afpm.org/forms/meeting/Microsite/ENVCMT19
END:VEVENT
END:VCALENDAR