BEGIN:VCALENDAR
PRODID:-//MatrixMaxx//RemoteApi//EN
VERSION:2.0
METHOD:PUBLISH
CALSCALE:GREGORIAN
X-ORIGINAL-URL:http://www2.afpm.org/forms/meeting/MeetingFormPublic/view?id=274ED5000001FB
BEGIN:VEVENT
SUMMARY:2020 IPC Suites
LAST-MODIFIED:20200329
UID:ci_274ED5000001FB@matrixgroup.net
CLASS:PUBLIC
CREATED:20200329
DTSTAMP:20200329
DTSTART:20200329
X-FUNAMBOL-ALLDAY:1
LOCATION:New+Orleans+Marriott
DESCRIPTION:For+full+info+see+http%3A%2F%2Fwww2.afpm.org%2Fforms%2Fmeeting%2FMeetingFormPublic%2Fview%3Fid%3D274ED5000001FB%0A
X-WR-CALDESC:For+full+info+see+http%3A%2F%2Fwww2.afpm.org%2Fforms%2Fmeeting%2FMeetingFormPublic%2Fview%3Fid%3D274ED5000001FB%0A
X-WR-CALNAME:Maxx Calendar
DTEND:20200401
URL:http://www2.afpm.org/forms/meeting/MeetingFormPublic/view?id=274ED5000001FB
END:VEVENT
END:VCALENDAR