BEGIN:VCALENDAR
PRODID:-//MatrixMaxx//RemoteApi//EN
VERSION:2.0
METHOD:PUBLISH
CALSCALE:GREGORIAN
X-ORIGINAL-URL:http://www2.afpm.org/forms/meeting/Microsite/ENVCMT20
BEGIN:VEVENT
SUMMARY:2020 Environmental Committee Spring Meeting
LAST-MODIFIED:20200304
UID:ci_28014300000145@matrixgroup.net
CLASS:PUBLIC
CREATED:20200304
DTSTAMP:20200304
DTSTART:20200304
X-FUNAMBOL-ALLDAY:1
LOCATION:Sofitel+Washington+DC+Lafayette+Square
DESCRIPTION:For full info see http://www2.afpm.org/forms/meeting/Microsite/ENVCMT20\n
DTEND:20200306
URL:http://www2.afpm.org/forms/meeting/Microsite/ENVCMT20
END:VEVENT
END:VCALENDAR