BEGIN:VCALENDAR
PRODID:-//MatrixMaxx//RemoteApi//EN
VERSION:2.0
METHOD:PUBLISH
CALSCALE:GREGORIAN
X-ORIGINAL-URL:http://www2.afpm.org/forms/meeting/Microsite/Copy_of_IPC20
BEGIN:VEVENT
SUMMARY:2021 International Petrochemical Conference
LAST-MODIFIED:20211017
UID:ci_2926D800000001@matrixgroup.net
CLASS:PUBLIC
CREATED:20211017
DTSTAMP:20211017
DTSTART:20211017
X-FUNAMBOL-ALLDAY:1
LOCATION:Grand+Hyatt+San+Antonio
DESCRIPTION:For+full+info+see+http%3A%2F%2Fwww2.afpm.org%2Fforms%2Fmeeting%2FMicrosite%2FCopy_of_IPC20%0A
X-WR-CALDESC:For+full+info+see+http%3A%2F%2Fwww2.afpm.org%2Fforms%2Fmeeting%2FMicrosite%2FCopy_of_IPC20%0A
X-WR-CALNAME:Maxx Calendar
DTEND:20211020
URL:http://www2.afpm.org/forms/meeting/Microsite/Copy_of_IPC20
END:VEVENT
END:VCALENDAR