BEGIN:VCALENDAR
PRODID:-//MatrixMaxx//RemoteApi//EN
VERSION:2.0
METHOD:PUBLISH
CALSCALE:GREGORIAN
X-ORIGINAL-URL:http://www2.afpm.org/forms/meeting/Microsite/Copy_of_ENV19
BEGIN:VEVENT
SUMMARY:2021 Environmental Conference
LAST-MODIFIED:20211010
UID:ci_2B48570000063E@matrixgroup.net
CLASS:PUBLIC
CREATED:20211010
DTSTAMP:20211010
DTSTART:20211010
X-FUNAMBOL-ALLDAY:1
LOCATION:Austin+Marriott+Downtown
DESCRIPTION:For+full+info+see+http%3A%2F%2Fwww2.afpm.org%2Fforms%2Fmeeting%2FMicrosite%2FCopy_of_ENV19%0A
X-WR-CALDESC:For+full+info+see+http%3A%2F%2Fwww2.afpm.org%2Fforms%2Fmeeting%2FMicrosite%2FCopy_of_ENV19%0A
X-WR-CALNAME:Maxx Calendar
DTEND:20211013
URL:http://www2.afpm.org/forms/meeting/Microsite/Copy_of_ENV19
END:VEVENT
END:VCALENDAR