BEGIN:VCALENDAR
PRODID:-//MatrixMaxx//RemoteApi//EN
VERSION:2.0
METHOD:PUBLISH
CALSCALE:GREGORIAN
X-ORIGINAL-URL:http://www2.afpm.org/forms/meeting/Microsite/NSC23
BEGIN:VEVENT
SUMMARY:2023 National Occupational & Process Safety Conference & Exhibition
LAST-MODIFIED:20230417
UID:ci_33C50D00000002@matrixgroup.net
CLASS:PUBLIC
CREATED:20230417
DTSTAMP:20230417
DTSTART:20230417
X-FUNAMBOL-ALLDAY:1
LOCATION:Sheraton+New+Orleans
DESCRIPTION:For+full+info+see+http%3A%2F%2Fwww2.afpm.org%2Fforms%2Fmeeting%2FMicrosite%2FNSC23%0A
X-WR-CALDESC:For+full+info+see+http%3A%2F%2Fwww2.afpm.org%2Fforms%2Fmeeting%2FMicrosite%2FNSC23%0A
X-WR-CALNAME:Maxx Calendar
DTEND:20230420
URL:http://www2.afpm.org/forms/meeting/Microsite/NSC23
END:VEVENT
END:VCALENDAR