BEGIN:VCALENDAR
PRODID:-//MatrixMaxx//RemoteApi//EN
VERSION:2.0
METHOD:PUBLISH
CALSCALE:GREGORIAN
X-ORIGINAL-URL:http://www2.afpm.org/forms/meeting/MeetingFormPublic/view?id=369DA000000E3
BEGIN:VEVENT
SUMMARY:2011 Security Conference
LAST-MODIFIED:20110301
UID:ci_369DA000000E3@matrixgroup.net
CLASS:PUBLIC
CREATED:20110301
DTSTAMP:20110301
DTSTART:20110301
X-FUNAMBOL-ALLDAY:1
LOCATION:%3Ca+href%3D%22%23Top%22+id%3D%22Top%22%3E%3C%2Fa%3EInterContinental+Houston+Hotel
DESCRIPTION:For full info see http://www2.afpm.org/forms/meeting/MeetingFormPublic/view?id=369DA000000E3\n
DTEND:20110303
URL:http://www2.afpm.org/forms/meeting/MeetingFormPublic/view?id=369DA000000E3
END:VEVENT
END:VCALENDAR