BEGIN:VCALENDAR
PRODID:-//MatrixMaxx//RemoteApi//EN
VERSION:2.0
METHOD:PUBLISH
CALSCALE:GREGORIAN
X-ORIGINAL-URL:http://www2.afpm.org/forms/meeting/MeetingFormPublic/view?id=39B2800000001
BEGIN:VEVENT
SUMMARY:2011 Environmental Committee Spring Meeting
LAST-MODIFIED:20110308
UID:ci_39B2800000001@matrixgroup.net
CLASS:PUBLIC
CREATED:20110308
DTSTAMP:20110308
DTSTART:20110308
X-FUNAMBOL-ALLDAY:1
LOCATION:Sofitel+DC+Lafayette+Square
DESCRIPTION:For full info see http://www2.afpm.org/forms/meeting/MeetingFormPublic/view?id=39B2800000001\n
DTEND:20110310
URL:http://www2.afpm.org/forms/meeting/MeetingFormPublic/view?id=39B2800000001
END:VEVENT
END:VCALENDAR