BEGIN:VCALENDAR
PRODID:-//MatrixMaxx//RemoteApi//EN
VERSION:2.0
METHOD:PUBLISH
CALSCALE:GREGORIAN
X-ORIGINAL-URL:http://www2.afpm.org/forms/meeting/MeetingFormPublic/view?id=3C54600000231
BEGIN:VEVENT
SUMMARY:2011 Public Policy Conference
LAST-MODIFIED:20110505
UID:ci_3C54600000231@matrixgroup.net
CLASS:PUBLIC
CREATED:20110505
DTSTAMP:20110505
DTSTART:20110505
X-FUNAMBOL-ALLDAY:1
LOCATION:Washington+Court+Hotel
DESCRIPTION:For full info see http://www2.afpm.org/forms/meeting/MeetingFormPublic/view?id=3C54600000231\n
DTEND:20110507
URL:http://www2.afpm.org/forms/meeting/MeetingFormPublic/view?id=3C54600000231
END:VEVENT
END:VCALENDAR