BEGIN:VCALENDAR
PRODID:-//MatrixMaxx//RemoteApi//EN
VERSION:2.0
METHOD:PUBLISH
CALSCALE:GREGORIAN
X-ORIGINAL-URL:http://www2.afpm.org/forms/meeting/MeetingFormPublic/view?id=3C8020000056A
BEGIN:VEVENT
SUMMARY:2011 National Safety Conference & Exhibition
LAST-MODIFIED:20110510
UID:ci_3C8020000056A@matrixgroup.net
CLASS:PUBLIC
CREATED:20110510
DTSTAMP:20110510
DTSTART:20110510
X-FUNAMBOL-ALLDAY:1
LOCATION:%3Ca+href%3D%22%23Top%22+id%3D%22Top%22%3E%3C%2Fa%3EOmni+Fort+Worth+Hotel
DESCRIPTION:For full info see http://www2.afpm.org/forms/meeting/MeetingFormPublic/view?id=3C8020000056A\n
DTEND:20110512
URL:http://www2.afpm.org/forms/meeting/MeetingFormPublic/view?id=3C8020000056A
END:VEVENT
END:VCALENDAR