BEGIN:VCALENDAR
PRODID:-//MatrixMaxx//RemoteApi//EN
VERSION:2.0
METHOD:PUBLISH
CALSCALE:GREGORIAN
X-ORIGINAL-URL:http://www2.afpm.org/forms/meeting/Microsite/AM25
BEGIN:VEVENT
SUMMARY:2025 Annual Meeting
LAST-MODIFIED:20250302T150000Z
UID:ci_49516500000003@matrixgroup.net
CLASS:PUBLIC
CREATED:20250302T150000Z
DTSTAMP:20250302T150000Z
DTSTART:20250302T150000Z
X-FUNAMBOL-ALLDAY:1
LOCATION:Grand+Hyatt+San+Antonio+River+Walk
DESCRIPTION:For+full+info+see+http%3A%2F%2Fwww2.afpm.org%2Fforms%2Fmeeting%2FMicrosite%2FAM25%0A
X-WR-CALDESC:For+full+info+see+http%3A%2F%2Fwww2.afpm.org%2Fforms%2Fmeeting%2FMicrosite%2FAM25%0A
X-WR-CALNAME:Maxx Calendar
DTEND:20250304T223000Z
URL:http://www2.afpm.org/forms/meeting/Microsite/AM25
END:VEVENT
END:VCALENDAR