BEGIN:VCALENDAR
PRODID:-//MatrixMaxx//RemoteApi//EN
VERSION:2.0
METHOD:PUBLISH
CALSCALE:GREGORIAN
X-ORIGINAL-URL:http://www2.afpm.org/forms/meeting/Microsite/NSC12
BEGIN:VEVENT
SUMMARY:2012 National Occupational and Process Safety Conference & Exhibition
LAST-MODIFIED:20120516
UID:ci_4E74C00001998@matrixgroup.net
CLASS:PUBLIC
CREATED:20120516
DTSTAMP:20120516
DTSTART:20120516
X-FUNAMBOL-ALLDAY:1
LOCATION:Grand+Hyatt+San+Antonio
DESCRIPTION:For+full+info+see+http%3A%2F%2Fwww2.afpm.org%2Fforms%2Fmeeting%2FMicrosite%2FNSC12%0A
X-WR-CALDESC:For+full+info+see+http%3A%2F%2Fwww2.afpm.org%2Fforms%2Fmeeting%2FMicrosite%2FNSC12%0A
X-WR-CALNAME:Maxx Calendar
DTEND:20120518
URL:http://www2.afpm.org/forms/meeting/Microsite/NSC12
END:VEVENT
END:VCALENDAR