BEGIN:VCALENDAR
PRODID:-//MatrixMaxx//RemoteApi//EN
VERSION:2.0
METHOD:PUBLISH
CALSCALE:GREGORIAN
X-ORIGINAL-URL:http://www2.afpm.org/forms/meeting/Microsite/PPC12
BEGIN:VEVENT
SUMMARY:2012 Public Policy Conference
LAST-MODIFIED:20120425
UID:ci_5824C0000008E@matrixgroup.net
CLASS:PUBLIC
CREATED:20120425
DTSTAMP:20120425
DTSTART:20120425
X-FUNAMBOL-ALLDAY:1
LOCATION:The+Westin+Washington%2C+D.C.+City+Center
DESCRIPTION:For full info see http://www2.afpm.org/forms/meeting/Microsite/PPC12\n
DTEND:20120427
URL:http://www2.afpm.org/forms/meeting/Microsite/PPC12
END:VEVENT
END:VCALENDAR