BEGIN:VCALENDAR
PRODID:-//MatrixMaxx//RemoteApi//EN
VERSION:2.0
METHOD:PUBLISH
CALSCALE:GREGORIAN
X-ORIGINAL-URL:http://www2.afpm.org/forms/meeting/MeetingFormPublic/view?id=5BF50000000B
BEGIN:VEVENT
SUMMARY:2006 Fall Board of Directors Meeting
LAST-MODIFIED:20060910
UID:ci_5BF50000000B@matrixgroup.net
CLASS:PUBLIC
CREATED:20060910
DTSTAMP:20060910
DTSTART:20060910
X-FUNAMBOL-ALLDAY:1
LOCATION:Hyatt+Tamaya+Resort+and+Spa
DESCRIPTION:For+full+info+see+http%3A%2F%2Fwww2.afpm.org%2Fforms%2Fmeeting%2FMeetingFormPublic%2Fview%3Fid%3D5BF50000000B%0A
X-WR-CALDESC:For+full+info+see+http%3A%2F%2Fwww2.afpm.org%2Fforms%2Fmeeting%2FMeetingFormPublic%2Fview%3Fid%3D5BF50000000B%0A
X-WR-CALNAME:Maxx Calendar
DTEND:20060913
URL:http://www2.afpm.org/forms/meeting/MeetingFormPublic/view?id=5BF50000000B
END:VEVENT
END:VCALENDAR