BEGIN:VCALENDAR
PRODID:-//MatrixMaxx//RemoteApi//EN
VERSION:2.0
METHOD:PUBLISH
CALSCALE:GREGORIAN
X-ORIGINAL-URL:http://www2.afpm.org/forms/meeting/MeetingFormPublic/view?id=604B00000024
BEGIN:VEVENT
SUMMARY:2007 Reliability & Maintenance Conference and Exhibition - "Securing Our Future"
LAST-MODIFIED:20070522
UID:ci_604B00000024@matrixgroup.net
CLASS:PUBLIC
CREATED:20070522
DTSTAMP:20070522
DTSTART:20070522
X-FUNAMBOL-ALLDAY:1
LOCATION:George+R.+Brown+Convention+Center
DESCRIPTION:For+full+info+see+http%3A%2F%2Fwww2.afpm.org%2Fforms%2Fmeeting%2FMeetingFormPublic%2Fview%3Fid%3D604B00000024%0A
X-WR-CALDESC:For+full+info+see+http%3A%2F%2Fwww2.afpm.org%2Fforms%2Fmeeting%2FMeetingFormPublic%2Fview%3Fid%3D604B00000024%0A
X-WR-CALNAME:Maxx Calendar
DTEND:20070526
URL:http://www2.afpm.org/forms/meeting/MeetingFormPublic/view?id=604B00000024
END:VEVENT
END:VCALENDAR