BEGIN:VCALENDAR
PRODID:-//MatrixMaxx//RemoteApi//EN
VERSION:2.0
METHOD:PUBLISH
CALSCALE:GREGORIAN
X-ORIGINAL-URL:http://www2.afpm.org/forms/meeting/MeetingFormPublic/view?id=612F7100000006
BEGIN:VEVENT
SUMMARY:Understanding Plastic Pyrolysis Oil in Hydrotreating
LAST-MODIFIED:20241024T180000Z
UID:ci_612F7100000006@matrixgroup.net
CLASS:PUBLIC
CREATED:20241024T180000Z
DTSTAMP:20241024T180000Z
DTSTART:20241024T180000Z
X-FUNAMBOL-ALLDAY:1
LOCATION:GoToWebinar
DESCRIPTION:For+full+info+see+http%3A%2F%2Fwww2.afpm.org%2Fforms%2Fmeeting%2FMeetingFormPublic%2Fview%3Fid%3D612F7100000006%0A
X-WR-CALDESC:For+full+info+see+http%3A%2F%2Fwww2.afpm.org%2Fforms%2Fmeeting%2FMeetingFormPublic%2Fview%3Fid%3D612F7100000006%0A
X-WR-CALNAME:Maxx Calendar
DTEND:20241024T190000Z
URL:http://www2.afpm.org/forms/meeting/MeetingFormPublic/view?id=612F7100000006
END:VEVENT
END:VCALENDAR