BEGIN:VCALENDAR
PRODID:-//MatrixMaxx//RemoteApi//EN
VERSION:2.0
METHOD:PUBLISH
CALSCALE:GREGORIAN
X-ORIGINAL-URL:http://www2.afpm.org/forms/meeting/Microsite/SUM25
BEGIN:VEVENT
SUMMARY:2025 AFPM Summit
LAST-MODIFIED:20250825
UID:ci_62707500000002@matrixgroup.net
CLASS:PUBLIC
CREATED:20250825
DTSTAMP:20250825
DTSTART:20250825
X-FUNAMBOL-ALLDAY:1
LOCATION:Gaylord+Texan+Resort+%26+Convention+Center
DESCRIPTION:For full info see http://www2.afpm.org/forms/meeting/Microsite/SUM25\n
DTEND:20250829
URL:http://www2.afpm.org/forms/meeting/Microsite/SUM25
END:VEVENT
END:VCALENDAR