BEGIN:VCALENDAR
PRODID:-//MatrixMaxx//RemoteApi//EN
VERSION:2.0
METHOD:PUBLISH
CALSCALE:GREGORIAN
X-ORIGINAL-URL:http://www2.afpm.org/forms/meeting/Microsite/ENV12
BEGIN:VEVENT
SUMMARY:2012 Environmental Conference
LAST-MODIFIED:20121015
UID:ci_62FE100001BA3@matrixgroup.net
CLASS:PUBLIC
CREATED:20121015
DTSTAMP:20121015
DTSTART:20121015
X-FUNAMBOL-ALLDAY:1
LOCATION:Denver+Marriott+City+Center
DESCRIPTION:For+full+info+see+http%3A%2F%2Fwww2.afpm.org%2Fforms%2Fmeeting%2FMicrosite%2FENV12%0A
X-WR-CALDESC:For+full+info+see+http%3A%2F%2Fwww2.afpm.org%2Fforms%2Fmeeting%2FMicrosite%2FENV12%0A
X-WR-CALNAME:Maxx Calendar
DTEND:20121017
URL:http://www2.afpm.org/forms/meeting/Microsite/ENV12
END:VEVENT
END:VCALENDAR