BEGIN:VCALENDAR
PRODID:-//MatrixMaxx//RemoteApi//EN
VERSION:2.0
METHOD:PUBLISH
CALSCALE:GREGORIAN
X-ORIGINAL-URL:http://www2.afpm.org/forms/meeting/Microsite/AM13
BEGIN:VEVENT
SUMMARY:2013 Annual Meeting
LAST-MODIFIED:20130317
UID:ci_6842A00000433@matrixgroup.net
CLASS:PUBLIC
CREATED:20130317
DTSTAMP:20130317
DTSTART:20130317
X-FUNAMBOL-ALLDAY:1
LOCATION:Marriott+Rivercenter+Hotel
DESCRIPTION:For+full+info+see+http%3A%2F%2Fwww2.afpm.org%2Fforms%2Fmeeting%2FMicrosite%2FAM13%0A
X-WR-CALDESC:For+full+info+see+http%3A%2F%2Fwww2.afpm.org%2Fforms%2Fmeeting%2FMicrosite%2FAM13%0A
X-WR-CALNAME:Maxx Calendar
DTEND:20130320
URL:http://www2.afpm.org/forms/meeting/Microsite/AM13
END:VEVENT
END:VCALENDAR