BEGIN:VCALENDAR
PRODID:-//MatrixMaxx//RemoteApi//EN
VERSION:2.0
METHOD:PUBLISH
CALSCALE:GREGORIAN
X-ORIGINAL-URL:http://www2.afpm.org/forms/meeting/Microsite/FSW12
BEGIN:VEVENT
SUMMARY:2012 Advancing Process Safety Meetings
LAST-MODIFIED:20121203
UID:ci_7698900000184@matrixgroup.net
CLASS:PUBLIC
CREATED:20121203
DTSTAMP:20121203
DTSTART:20121203
X-FUNAMBOL-ALLDAY:1
LOCATION:JW+Marriott+San+Antonio+Hill+Country
DESCRIPTION:For+full+info+see+http%3A%2F%2Fwww2.afpm.org%2Fforms%2Fmeeting%2FMicrosite%2FFSW12%0A
X-WR-CALDESC:For+full+info+see+http%3A%2F%2Fwww2.afpm.org%2Fforms%2Fmeeting%2FMicrosite%2FFSW12%0A
X-WR-CALNAME:Maxx Calendar
DTEND:20121206
URL:http://www2.afpm.org/forms/meeting/Microsite/FSW12
END:VEVENT
END:VCALENDAR