BEGIN:VCALENDAR
PRODID:-//MatrixMaxx//RemoteApi//EN
VERSION:2.0
METHOD:PUBLISH
CALSCALE:GREGORIAN
X-ORIGINAL-URL:http://www2.afpm.org/forms/meeting/Microsite/LRHR13
BEGIN:VEVENT
SUMMARY:2013 Labor Relations/Human Resources Conference
LAST-MODIFIED:20130522
UID:ci_7D937000011B9@matrixgroup.net
CLASS:PUBLIC
CREATED:20130522
DTSTAMP:20130522
DTSTART:20130522
X-FUNAMBOL-ALLDAY:1
LOCATION:Marriott+Orlando+World+Center+Resort+%26+Convention+Center
DESCRIPTION:For+full+info+see+http%3A%2F%2Fwww2.afpm.org%2Fforms%2Fmeeting%2FMicrosite%2FLRHR13%0A
X-WR-CALDESC:For+full+info+see+http%3A%2F%2Fwww2.afpm.org%2Fforms%2Fmeeting%2FMicrosite%2FLRHR13%0A
X-WR-CALNAME:Maxx Calendar
DTEND:20130524
URL:http://www2.afpm.org/forms/meeting/Microsite/LRHR13
END:VEVENT
END:VCALENDAR