BEGIN:VCALENDAR
PRODID:-//MatrixMaxx//RemoteApi//EN
VERSION:2.0
METHOD:PUBLISH
CALSCALE:GREGORIAN
X-ORIGINAL-URL:http://www2.afpm.org/forms/meeting/Microsite/LW13
BEGIN:VEVENT
SUMMARY:2013 International Lubricants & Waxes Meeting
LAST-MODIFIED:20131114
UID:ci_7DB3800000208@matrixgroup.net
CLASS:PUBLIC
CREATED:20131114
DTSTAMP:20131114
DTSTART:20131114
X-FUNAMBOL-ALLDAY:1
LOCATION:Hilton+Houston+Post+Oak
DESCRIPTION:For+full+info+see+http%3A%2F%2Fwww2.afpm.org%2Fforms%2Fmeeting%2FMicrosite%2FLW13%0A
X-WR-CALDESC:For+full+info+see+http%3A%2F%2Fwww2.afpm.org%2Fforms%2Fmeeting%2FMicrosite%2FLW13%0A
X-WR-CALNAME:Maxx Calendar
DTEND:20131116
URL:http://www2.afpm.org/forms/meeting/Microsite/LW13
END:VEVENT
END:VCALENDAR