BEGIN:VCALENDAR
PRODID:-//MatrixMaxx//RemoteApi//EN
VERSION:2.0
METHOD:PUBLISH
CALSCALE:GREGORIAN
X-ORIGINAL-URL:http://www2.afpm.org/forms/meeting/Microsite/ENVS13
BEGIN:VEVENT
SUMMARY:AFPM/API NSPS Ja Workshop
LAST-MODIFIED:20130227T140000Z
UID:ci_8163D00000223@matrixgroup.net
CLASS:PUBLIC
CREATED:20130227T140000Z
DTSTAMP:20130227T140000Z
DTSTART:20130227T140000Z
X-FUNAMBOL-ALLDAY:1
LOCATION:Royal+Sonesta+Hotel+Houston
DESCRIPTION:For+full+info+see+http%3A%2F%2Fwww2.afpm.org%2Fforms%2Fmeeting%2FMicrosite%2FENVS13%0A
X-WR-CALDESC:For+full+info+see+http%3A%2F%2Fwww2.afpm.org%2Fforms%2Fmeeting%2FMicrosite%2FENVS13%0A
X-WR-CALNAME:Maxx Calendar
DTEND:20130301
URL:http://www2.afpm.org/forms/meeting/Microsite/ENVS13
END:VEVENT
END:VCALENDAR