BEGIN:VCALENDAR
PRODID:-//MatrixMaxx//RemoteApi//EN
VERSION:2.0
METHOD:PUBLISH
CALSCALE:GREGORIAN
X-ORIGINAL-URL:http://www2.afpm.org/forms/meeting/Microsite/CAT14
BEGIN:VEVENT
SUMMARY:2014 Cat Cracker Seminar
LAST-MODIFIED:20140819T140000Z
UID:ci_8BAA800000307@matrixgroup.net
CLASS:PUBLIC
CREATED:20140819T140000Z
DTSTAMP:20140819T140000Z
DTSTART:20140819T140000Z
X-FUNAMBOL-ALLDAY:1
LOCATION:Royal+Sonesta+Hotel
DESCRIPTION:For full info see http://www2.afpm.org/forms/meeting/Microsite/CAT14\n
DTEND:20140820T200000Z
URL:http://www2.afpm.org/forms/meeting/Microsite/CAT14
END:VEVENT
END:VCALENDAR