BEGIN:VCALENDAR
PRODID:-//MatrixMaxx//RemoteApi//EN
VERSION:2.0
METHOD:PUBLISH
CALSCALE:GREGORIAN
X-ORIGINAL-URL:http://www2.afpm.org/forms/meeting/Microsite/ENV13
BEGIN:VEVENT
SUMMARY:2013 Environmental Conference
LAST-MODIFIED:20131020
UID:ci_8BB7A00000FC2@matrixgroup.net
CLASS:PUBLIC
CREATED:20131020
DTSTAMP:20131020
DTSTART:20131020
X-FUNAMBOL-ALLDAY:1
LOCATION:Hilton+New+Orleans+Riverside
DESCRIPTION:For+full+info+see+http%3A%2F%2Fwww2.afpm.org%2Fforms%2Fmeeting%2FMicrosite%2FENV13%0A
X-WR-CALDESC:For+full+info+see+http%3A%2F%2Fwww2.afpm.org%2Fforms%2Fmeeting%2FMicrosite%2FENV13%0A
X-WR-CALNAME:Maxx Calendar
DTEND:20131023
URL:http://www2.afpm.org/forms/meeting/Microsite/ENV13
END:VEVENT
END:VCALENDAR