BEGIN:VCALENDAR
PRODID:-//MatrixMaxx//RemoteApi//EN
VERSION:2.0
METHOD:PUBLISH
CALSCALE:GREGORIAN
X-ORIGINAL-URL:http://www2.afpm.org/forms/meeting/Microsite/WVP13
BEGIN:VEVENT
SUMMARY:AFPM 2013 Workplace Violence Prevention Workshop
LAST-MODIFIED:20131030T130000Z
UID:ci_8E036000008C4@matrixgroup.net
CLASS:PUBLIC
CREATED:20131030T130000Z
DTSTAMP:20131030T130000Z
DTSTART:20131030T130000Z
X-FUNAMBOL-ALLDAY:1
LOCATION:Hilton+Houston+Post+Oak
DESCRIPTION:For full info see http://www2.afpm.org/forms/meeting/Microsite/WVP13\n
DTEND:20131030T210000Z
URL:http://www2.afpm.org/forms/meeting/Microsite/WVP13
END:VEVENT
END:VCALENDAR