BEGIN:VCALENDAR
PRODID:-//MatrixMaxx//RemoteApi//EN
VERSION:2.0
METHOD:PUBLISH
CALSCALE:GREGORIAN
X-ORIGINAL-URL:http://www2.afpm.org/forms/meeting/Microsite/SC14
BEGIN:VEVENT
SUMMARY:2014 Security Conference
LAST-MODIFIED:20140414
UID:ci_92E2300000001@matrixgroup.net
CLASS:PUBLIC
CREATED:20140414
DTSTAMP:20140414
DTSTART:20140414
X-FUNAMBOL-ALLDAY:1
LOCATION:Hilton+Palacio+del+Rio
DESCRIPTION:For+full+info+see+http%3A%2F%2Fwww2.afpm.org%2Fforms%2Fmeeting%2FMicrosite%2FSC14%0A
X-WR-CALDESC:For+full+info+see+http%3A%2F%2Fwww2.afpm.org%2Fforms%2Fmeeting%2FMicrosite%2FSC14%0A
X-WR-CALNAME:Maxx Calendar
DTEND:20140417
URL:http://www2.afpm.org/forms/meeting/Microsite/SC14
END:VEVENT
END:VCALENDAR