BEGIN:VCALENDAR
PRODID:-//MatrixMaxx//RemoteApi//EN
VERSION:2.0
METHOD:PUBLISH
CALSCALE:GREGORIAN
X-ORIGINAL-URL:http://www2.afpm.org/forms/meeting/Microsite/PCS14
BEGIN:VEVENT
SUMMARY:AFPM 2014 Physical & Cyber Security Workshop
LAST-MODIFIED:20140821T130000Z
UID:ci_A2765000001F8@matrixgroup.net
CLASS:PUBLIC
CREATED:20140821T130000Z
DTSTAMP:20140821T130000Z
DTSTART:20140821T130000Z
X-FUNAMBOL-ALLDAY:1
LOCATION:Royal+Sonesta+Hotel
DESCRIPTION:For+full+info+see+http%3A%2F%2Fwww2.afpm.org%2Fforms%2Fmeeting%2FMicrosite%2FPCS14%0A
X-WR-CALDESC:For+full+info+see+http%3A%2F%2Fwww2.afpm.org%2Fforms%2Fmeeting%2FMicrosite%2FPCS14%0A
X-WR-CALNAME:Maxx Calendar
DTEND:20140821T210000Z
URL:http://www2.afpm.org/forms/meeting/Microsite/PCS14
END:VEVENT
END:VCALENDAR