BEGIN:VCALENDAR
PRODID:-//MatrixMaxx//RemoteApi//EN
VERSION:2.0
METHOD:PUBLISH
CALSCALE:GREGORIAN
X-ORIGINAL-URL:http://www2.afpm.org/forms/meeting/Microsite/ENV14
BEGIN:VEVENT
SUMMARY:2014 Environmental Conference
LAST-MODIFIED:20141019
UID:ci_A2C4200000051@matrixgroup.net
CLASS:PUBLIC
CREATED:20141019
DTSTAMP:20141019
DTSTART:20141019
X-FUNAMBOL-ALLDAY:1
LOCATION:Marriott+Rivercenter
DESCRIPTION:For+full+info+see+http%3A%2F%2Fwww2.afpm.org%2Fforms%2Fmeeting%2FMicrosite%2FENV14%0A
X-WR-CALDESC:For+full+info+see+http%3A%2F%2Fwww2.afpm.org%2Fforms%2Fmeeting%2FMicrosite%2FENV14%0A
X-WR-CALNAME:Maxx Calendar
DTEND:20141022
URL:http://www2.afpm.org/forms/meeting/Microsite/ENV14
END:VEVENT
END:VCALENDAR