BEGIN:VCALENDAR
PRODID:-//MatrixMaxx//RemoteApi//EN
VERSION:2.0
METHOD:PUBLISH
CALSCALE:GREGORIAN
X-ORIGINAL-URL:http://www2.afpm.org/forms/meeting/Microsite/SC15
BEGIN:VEVENT
SUMMARY:2015 Security Conference
LAST-MODIFIED:20150413
UID:ci_A5F0B0000035D@matrixgroup.net
CLASS:PUBLIC
CREATED:20150413
DTSTAMP:20150413
DTSTART:20150413
X-FUNAMBOL-ALLDAY:1
LOCATION:Omni+Royal+Orleans+Hotel
DESCRIPTION:For full info see http://www2.afpm.org/forms/meeting/Microsite/SC15\n
DTEND:20150416
URL:http://www2.afpm.org/forms/meeting/Microsite/SC15
END:VEVENT
END:VCALENDAR