BEGIN:VCALENDAR
PRODID:-//MatrixMaxx//RemoteApi//EN
VERSION:2.0
METHOD:PUBLISH
CALSCALE:GREGORIAN
X-ORIGINAL-URL:http://www2.afpm.org/forms/meeting/Microsite/QA15
BEGIN:VEVENT
SUMMARY:2015 Q&A and Technology Forum
LAST-MODIFIED:20151004
UID:ci_A869D00000001@matrixgroup.net
CLASS:PUBLIC
CREATED:20151004
DTSTAMP:20151004
DTSTART:20151004
X-FUNAMBOL-ALLDAY:1
LOCATION:New+Orleans+Marriott
DESCRIPTION:For+full+info+see+http%3A%2F%2Fwww2.afpm.org%2Fforms%2Fmeeting%2FMicrosite%2FQA15%0A
X-WR-CALDESC:For+full+info+see+http%3A%2F%2Fwww2.afpm.org%2Fforms%2Fmeeting%2FMicrosite%2FQA15%0A
X-WR-CALNAME:Maxx Calendar
DTEND:20151008
URL:http://www2.afpm.org/forms/meeting/Microsite/QA15
END:VEVENT
END:VCALENDAR