BEGIN:VCALENDAR
PRODID:-//MatrixMaxx//RemoteApi//EN
VERSION:2.0
METHOD:PUBLISH
CALSCALE:GREGORIAN
X-ORIGINAL-URL:http://www2.afpm.org/forms/meeting/Microsite/SC26
BEGIN:VEVENT
SUMMARY:2026 Security Conference
LAST-MODIFIED:20260416T130000Z
UID:ci_AB48D600000001@matrixgroup.net
CLASS:PUBLIC
CREATED:20260416T130000Z
DTSTAMP:20260416T130000Z
DTSTART:20260416T130000Z
X-FUNAMBOL-ALLDAY:1
LOCATION:JW+Marriott+New+Orleans
DESCRIPTION:For+full+info+see+http%3A%2F%2Fwww2.afpm.org%2Fforms%2Fmeeting%2FMicrosite%2FSC26%0A
X-WR-CALDESC:For+full+info+see+http%3A%2F%2Fwww2.afpm.org%2Fforms%2Fmeeting%2FMicrosite%2FSC26%0A
X-WR-CALNAME:Maxx Calendar
DTEND:20260417T180000Z
URL:http://www2.afpm.org/forms/meeting/Microsite/SC26
END:VEVENT
END:VCALENDAR