BEGIN:VCALENDAR
PRODID:-//MatrixMaxx//RemoteApi//EN
VERSION:2.0
METHOD:PUBLISH
CALSCALE:GREGORIAN
X-ORIGINAL-URL:http://www2.afpm.org/forms/meeting/Microsite/NSC26
BEGIN:VEVENT
SUMMARY:2026 National Occupational & Process Safety Conference & Exhibition
LAST-MODIFIED:20260505T130000Z
UID:ci_B38B5700000001@matrixgroup.net
CLASS:PUBLIC
CREATED:20260505T130000Z
DTSTAMP:20260505T130000Z
DTSTART:20260505T130000Z
X-FUNAMBOL-ALLDAY:1
LOCATION:Grand+Hyatt+San+Antonio
DESCRIPTION:For full info see http://www2.afpm.org/forms/meeting/Microsite/NSC26\n
DTEND:20260508T030000Z
URL:http://www2.afpm.org/forms/meeting/Microsite/NSC26
END:VEVENT
END:VCALENDAR