BEGIN:VCALENDAR
PRODID:-//MatrixMaxx//RemoteApi//EN
VERSION:2.0
METHOD:PUBLISH
CALSCALE:GREGORIAN
X-ORIGINAL-URL:http://www2.afpm.org/forms/meeting/Microsite/CAT16
BEGIN:VEVENT
SUMMARY:2016 Cat Cracker Seminar
LAST-MODIFIED:20160823T140000Z
UID:ci_D21C80000001B@matrixgroup.net
CLASS:PUBLIC
CREATED:20160823T140000Z
DTSTAMP:20160823T140000Z
DTSTART:20160823T140000Z
X-FUNAMBOL-ALLDAY:1
LOCATION:Royal+Sonesta+Hotel
DESCRIPTION:For+full+info+see+http%3A%2F%2Fwww2.afpm.org%2Fforms%2Fmeeting%2FMicrosite%2FCAT16%0A
X-WR-CALDESC:For+full+info+see+http%3A%2F%2Fwww2.afpm.org%2Fforms%2Fmeeting%2FMicrosite%2FCAT16%0A
X-WR-CALNAME:Maxx Calendar
DTEND:20160824T200000Z
URL:http://www2.afpm.org/forms/meeting/Microsite/CAT16
END:VEVENT
END:VCALENDAR