BEGIN:VCALENDAR
PRODID:-//MatrixMaxx//RemoteApi//EN
VERSION:2.0
METHOD:PUBLISH
CALSCALE:GREGORIAN
X-ORIGINAL-URL:http://www2.afpm.org/forms/meeting/Microsite/BOD16
BEGIN:VEVENT
SUMMARY:2016 Fall Board of Directors Meeting
LAST-MODIFIED:20160911
UID:ci_EBEF100000024@matrixgroup.net
CLASS:PUBLIC
CREATED:20160911
DTSTAMP:20160911
DTSTART:20160911
X-FUNAMBOL-ALLDAY:1
LOCATION:Salamander+Resort+%26+Spa
DESCRIPTION:For+full+info+see+http%3A%2F%2Fwww2.afpm.org%2Fforms%2Fmeeting%2FMicrosite%2FBOD16%0A
X-WR-CALDESC:For+full+info+see+http%3A%2F%2Fwww2.afpm.org%2Fforms%2Fmeeting%2FMicrosite%2FBOD16%0A
X-WR-CALNAME:Maxx Calendar
DTEND:20160914
URL:http://www2.afpm.org/forms/meeting/Microsite/BOD16
END:VEVENT
END:VCALENDAR