BEGIN:VCALENDAR
PRODID:-//MatrixMaxx//RemoteApi//EN
VERSION:2.0
METHOD:PUBLISH
CALSCALE:GREGORIAN
X-ORIGINAL-URL:http://www2.afpm.org/forms/meeting/Microsite/QAS16
BEGIN:VEVENT
SUMMARY:2016 Q&A Screening Meeting
LAST-MODIFIED:20160629T130000Z
UID:ci_EFED400000022@matrixgroup.net
CLASS:PUBLIC
CREATED:20160629T130000Z
DTSTAMP:20160629T130000Z
DTSTART:20160629T130000Z
X-FUNAMBOL-ALLDAY:1
LOCATION:Clariant
DESCRIPTION:For+full+info+see+http%3A%2F%2Fwww2.afpm.org%2Fforms%2Fmeeting%2FMicrosite%2FQAS16%0A
X-WR-CALDESC:For+full+info+see+http%3A%2F%2Fwww2.afpm.org%2Fforms%2Fmeeting%2FMicrosite%2FQAS16%0A
X-WR-CALNAME:Maxx Calendar
DTEND:20160630T170000Z
URL:http://www2.afpm.org/forms/meeting/Microsite/QAS16
END:VEVENT
END:VCALENDAR